BEGIN:VCALENDAR
VERSION:2.0
PRODID:-//eventon.com NONSGML v1.0//EN
CALSCALE:GREGORIAN
METHOD:PUBLISH
BEGIN:VEVENT
UID:69e843c1261f6
DTSTAMP:20260422T034257Z
DTSTART:20260403T150000Z
DTEND:20260403T210000Z
LOCATION:Mustache Club Bangkok Young Place ถนน สุขุมวิท Khlong Toei Nuea\,  Watthana\,  Bangkok 10110
SUMMARY:MUSTACHE CLUB FRIDAY
DESCRIPTION:MUSTACHE CLUB FRIDAY &#8211; MUSTACHE CLUB &#8211; 03 APRIL Exp
 erience the driving force of Bangkok’s underground scene at the city’s 
 leading techno destination for a night of pure electronic energy. Line-up: 
 Eddy Frampton\,  Anchun\,  Fernisa 📅 Friday\,  03 April 📍 Mustache Cl
 ub\,  Bangkok ⏱ 10pm-3.30am Join the techno movement.\nhttps://phangan.ev
 ents/events/mustache-club-friday/
URL:https://phangan.events/events/mustache-club-friday/
END:VEVENT
END:VCALENDAR