BEGIN:VCALENDAR
VERSION:2.0
PRODID:-//eventon.com NONSGML v1.0//EN
CALSCALE:GREGORIAN
METHOD:PUBLISH
BEGIN:VEVENT
UID:69e8791f650d4
DTSTAMP:20260422T073039Z
DTSTART:20260404T140000Z
DTEND:20260404T170000Z
LOCATION:Culture Club Q2P4+MX Ko Pha-ngan\,  Ko Pha-ngan District\,  Surat Thani
SUMMARY:Fly High Chaloklum
DESCRIPTION:FLY HIGH CHALOKLUM &#8211; CULTURE CLUB &#8211; 04 APRIL Join u
 s for the season finale as we deliver deep island grooves and a high-energy
  send-off for one of our favorite resident selectors. Line-up: Pash (Lnd) 
  Saturday\,  04 April 📍 Culture Club\,  Chaloklum\,  Koh Phangan ⏱ 
 9pm-late One last session[..]\nhttps://phangan.events/events/fly-high-chalo
 klum/
URL:https://phangan.events/events/fly-high-chaloklum/
END:VEVENT
END:VCALENDAR