BEGIN:VCALENDAR
VERSION:2.0
PRODID:-//eventon.com NONSGML v1.0//EN
CALSCALE:GREGORIAN
METHOD:PUBLISH
BEGIN:VEVENT
UID:69e7a6804840f
DTSTAMP:20260421T163200Z
DTSTART:20260404T120000Z
DTEND:20260404T170000Z
LOCATION:SOUND GARDEN Sound Garden 79/21 M.1 St.Krungthai Koh Phangan\,  ตำบลเกาะพะงัน อำเภอเกาะพะงัน สุราษฎร์ธานี 84280
SUMMARY:Psy Garden: Reunion at Sound Garden
DESCRIPTION:Psy Garden: Reunion at Sound Garden After a two-year hiatus\,  
 Psy Garden returns to the dancefloor for a massive reunion at the legendary
  Sound Garden. Join us this Saturday for a journey through the spectrum of 
 psychedelic sound\,  from deep minimal tech to high-energy psytrance. Lineu
 p: • 19:00: ZEE (Minimal[..]\nhttps://phangan.events/events/psy-garden-re
 union-at-sound-garden/
URL:https://phangan.events/events/psy-garden-reunion-at-sound-garden/
END:VEVENT
END:VCALENDAR