BEGIN:VCALENDAR
VERSION:2.0
PRODID:-//eventon.com NONSGML v1.0//EN
CALSCALE:GREGORIAN
METHOD:PUBLISH
BEGIN:VEVENT
UID:69e9e2fda5815
DTSTAMP:20260423T091437Z
DTSTART:20260402T100000Z
DTEND:20260402T190000Z
LOCATION:Apple Bar Koh Phangan QXC8+RW Ko Pha-ngan\,  Ko Pha-ngan District\,  Surat Thani
SUMMARY:Room Service: Psytrance & Goa Classics at Apple Bar
DESCRIPTION:Room Service: Psytrance &#038; Goa Classics at Apple Bar Experi
 ence a journey through sound this Thursday at Mountain Club Haad Yao. Room 
 Service Koh Phangan presents a curated selection of Goa and Psy Trance\,  s
 tarting from the golden hour and driving deep into the night. Lineup: • S
 harina (Sunset Set)[..]\nhttps://phangan.events/events/room-service-psytran
 ce-goa-classics-at-apple-bar/
URL:https://phangan.events/events/room-service-psytrance-goa-classics-at-apple-bar/
END:VEVENT
END:VCALENDAR