BEGIN:VCALENDAR
VERSION:2.0
PRODID:-//eventon.com NONSGML v1.0//EN
CALSCALE:GREGORIAN
METHOD:PUBLISH
BEGIN:VEVENT
UID:69e6fda5b2fc7
DTSTAMP:20260421T043133Z
DTSTART:20260402T070000Z
DTEND:20260402T150000Z
LOCATION:INFINITY Beach Club 17/3 Moo4 Baan Tai\,  Ko Phangan\,  Thailand\,  84280
SUMMARY:FULL MOON WARMUP - INFINITY BEACH CLUB - 02.04.2026
DESCRIPTION:FULL MOON WARMUP &#8211; INFINITY BEACH CLUB &#8211; 02.04.2026
  Ignite your lunar journey at Koh Phangan’s premier beachfront pool desti
 nation for an all-day marathon of diverse electronic sound. Line-up: Stars 
 Project\,  Rizlablu\,  Angelika\,  Carlton\,  Dj Shaman\,  Swill&#8217;O 
  Thursday\,  02 April 📍 Infinity Beach Club\,  Ban Tai ⏱ 12pm &#8211
 ;[..]\nhttps://phangan.events/events/full-moon-warmup-infinity-beach-club-0
 2-04-2026/
URL:https://phangan.events/events/full-moon-warmup-infinity-beach-club-02-04-2026/
END:VEVENT
END:VCALENDAR