BEGIN:VCALENDAR
VERSION:2.0
PRODID:-//eventon.com NONSGML v1.0//EN
CALSCALE:GREGORIAN
METHOD:PUBLISH
BEGIN:VEVENT
UID:69e7136be11a7
DTSTAMP:20260421T060427Z
DTSTART:20260404T080000Z
DTEND:20260404T153000Z
LOCATION:Grasshopper bar at Zen beach QX46+WG9\,  Tambon Ko Pha-ngan\,  Ko Pha-ngan District\,  Surat Thani 84280
SUMMARY:HAPPY SATURDAY - ZEN BEACH
DESCRIPTION:HAPPY SATURDAY &#8211; ZEN BEACH &#8211; 04 APRIL 2026 Gather o
 n the sands of Koh Phangan’s most famous sunset shore for a day of pure b
 eachfront bliss and organic rhythms. Line-up: Sarinna\,  David Chong\,  Omk
 a 📅 Saturday\,  04 April 📍 Zen Beach\,  Koh Phangan ⏱ 3pm &#8211; 1
 0:30pm Life is[..]\nhttps://phangan.events/events/happy-saturday-zen-beach-
 3/
URL:https://phangan.events/events/happy-saturday-zen-beach-3/
END:VEVENT
END:VCALENDAR