BEGIN:VCALENDAR
VERSION:2.0
PRODID:-//eventon.com NONSGML v1.0//EN
CALSCALE:GREGORIAN
METHOD:PUBLISH
BEGIN:VEVENT
UID:69e500d14e0bf
DTSTAMP:20260419T162033Z
DTSTART:20260402T090000Z
DTEND:20260402T170000Z
LOCATION:Secret Mountain P2C7+FM Ko Pha-ngan\,  Ko Pha-ngan District\,  Surat Thani
SUMMARY:Secret Mountain Exclusive Electronic Music Event
DESCRIPTION:SECRET MOUNTAIN &#8211; 02 APRIL 2026 We are back with our week
 ly parties\,  and this coming Thursday is a special one for us as we open o
 ur new outdoor club floor\,  featuring a wooden deck\,  upgraded sound syst
 em\,  and an additional bar. This week’s line-up: Aracil — Ibiza / Phan
 gan[..]\nhttps://phangan.events/events/secret-mountain-exclusive-electronic
 -music-event/
URL:https://phangan.events/events/secret-mountain-exclusive-electronic-music-event/
END:VEVENT
END:VCALENDAR