BEGIN:VCALENDAR
VERSION:2.0
PRODID:-//eventon.com NONSGML v1.0//EN
CALSCALE:GREGORIAN
METHOD:PUBLISH
BEGIN:VEVENT
UID:69e84aa88dc8d
DTSTAMP:20260422T041224Z
DTSTART:20260404T130000Z
DTEND:20260404T190000Z
LOCATION:Elephant Beach Club 159 moo2\,  Bo Put\,  Amphoe Ko Samui\,  Surat Thani 84320
SUMMARY:BOILER ROOM VIBES
DESCRIPTION:BOILER ROOM VIBES &#8211; ELEPHANT BEACH CLUB &#8211; 04 APRIL 
 Dive into an intimate electronic session featuring immersive projections an
 d fire shows right on the Samui shoreline. Line-up: Cosmonaut\,  You Shtak!
 \,  Peter Illias 📅 Saturday\,  04 April 📍 Elephant Beach Club\,  Koh 
 Samui ⏱ 8pm-late Free entry all night long.\nhttps://phangan.events/event
 s/boiler-room-vibes-3/
URL:https://phangan.events/events/boiler-room-vibes-3/
END:VEVENT
END:VCALENDAR