BEGIN:VCALENDAR
VERSION:2.0
PRODID:-//eventon.com NONSGML v1.0//EN
CALSCALE:GREGORIAN
METHOD:PUBLISH
BEGIN:VEVENT
UID:69e841e6742fe
DTSTAMP:20260422T033502Z
DTSTART:20260404T140000Z
DTEND:20260404T190000Z
LOCATION:House of Suzy 144\,  Baan Lamai\,  24\,  Maret\,  Surat Thani 84310
SUMMARY:HOUSE OF SUZY
DESCRIPTION:HOUSE OF SUZY &#8211; 03 APRIL Experience a night of immersive 
 visuals and deep rhythmic energy as two Koh Phangan favorites unite for a u
 nique genre-blending performance. Line-up: Sacred Beat\,  Anna Panilli 📅
  Friday\,  03 April 📍 House of Suzy\,  Koh Samui ⏱ 9pm-late A proper F
 riday in the making.\nhttps://phangan.events/events/house-of-suzy/
URL:https://phangan.events/events/house-of-suzy/
END:VEVENT
END:VCALENDAR