BEGIN:VCALENDAR
VERSION:2.0
PRODID:-//eventon.com NONSGML v1.0//EN
CALSCALE:GREGORIAN
METHOD:PUBLISH
BEGIN:VEVENT
UID:69e97e133262a
DTSTAMP:20260423T020403Z
DTSTART:20260313T130000Z
DTEND:20260313T200000Z
LOCATION:Rasaruna Life Centre 69/5 Wang Takien M8\,  Koh Phangan\,  Surat Thani 84280
SUMMARY:DAYDREAM X 44 HERTZ SHOWCASE
DESCRIPTION:We‘re back this friday together with our Friends from 44Hertz
 ❤️‍🔥 See you on the dancefloor 💃🕺🏼 DAYDREAM X 44 HERTZ SH
 OWCASE 13/03 Line up: MAIN ✨ DANIEL NEULAND ✨ DYDAA FORNE ✨ MARTIN KA
  ✨ VOM FEISTEN FLOOR || ✨ JOULES ✨ AVAR ✨ MYSTIC BLOOM 📍: The Hi
 dden Jungle[..]\nhttps://phangan.events/events/daydream-x-44-hertz-showcase
 /
URL:https://phangan.events/events/daydream-x-44-hertz-showcase/
END:VEVENT
END:VCALENDAR