BEGIN:VCALENDAR
VERSION:2.0
PRODID:-//eventon.com NONSGML v1.0//EN
CALSCALE:GREGORIAN
METHOD:PUBLISH
BEGIN:VEVENT
UID:69e879e09957c
DTSTAMP:20260422T073352Z
DTSTART:20260313T100000Z
DTEND:20260313T130000Z
LOCATION:420 CLUB PHANGAN 85\,  2\,  Ko Pha-ngan\,  Ko Pha-ngan District\,  Surat Thani 84280
SUMMARY:Afro & Melodic House Sunset Set @ 420 Club w/ AVAR
DESCRIPTION:Event Details Join us at 420 Club Phangan for a 360° sunset se
 t overlooking the island. From 5pm to 8pm\,  AVAR will guide the evening wi
 th an Afro &#038; Melodic House set built around warm grooves\,  long build
 -ups and a flowing sunset energy. Expect deep rhythm\,  melodic tension and
  open-air[..]\nhttps://phangan.events/events/afro-melodic-house-sunset-set-
 420-club-w-avar-5/
URL:https://phangan.events/events/afro-melodic-house-sunset-set-420-club-w-avar-5/
END:VEVENT
END:VCALENDAR