BEGIN:VCALENDAR
VERSION:2.0
PRODID:-//eventon.com NONSGML v1.0//EN
CALSCALE:GREGORIAN
METHOD:PUBLISH
BEGIN:VEVENT
UID:69e7755759e92
DTSTAMP:20260421T130215Z
DTSTART:20260325T140000Z
DTEND:20260325T230000Z
LOCATION:Jungle Experience Festival P28H+4X Ban Tai\,  Ko Pha-ngan District\,  Surat Thani
SUMMARY:ANAHATA NIGHT - JUNGLE EXPERIENCE
DESCRIPTION:ANAHATA NIGHT &#8211; JUNGLE EXPERIENCE &#8211; 25 MARCH 2026 O
 nce upon a time\,  a heartbeat echoed through the island. The lights dimmed
  but the frequency never faded After a long silence\,  two forces align onc
 e again &#8211; not to look back\,  but to remind the night\,  what it feel
 s like[..]\nhttps://phangan.events/events/anahata-night-jungle-experience/
URL:https://phangan.events/events/anahata-night-jungle-experience/
END:VEVENT
END:VCALENDAR