BEGIN:VCALENDAR
VERSION:2.0
PRODID:-//eventon.com NONSGML v1.0//EN
CALSCALE:GREGORIAN
METHOD:PUBLISH
BEGIN:VEVENT
UID:69ea051c540fc
DTSTAMP:20260423T114012Z
DTSTART:20260313T150000Z
DTEND:20260314T030000Z
LOCATION:Guy’s bar M3XG+GP Ban Tai\,  Ko Pha-ngan District\,  Surat Thani
SUMMARY:Guy’s bar Friday Night Session
DESCRIPTION:GUY&#8217;S BAR FRIDAY &#8211; 13 MARCH Step into the jungle fo
 r a legendary Friday night session as Hole Station presents a lineup of son
 ic heavyweights. Join the island&#8217;s dedicated dance community for an i
 mmersive journey through deep\,  driving beats in the heart of the wild. Li
 ne-up: Sacred Beat\,  Tino Moreno\, [..]\nhttps://phangan.events/events/guy
 s-bar-friday-night-session/
URL:https://phangan.events/events/guys-bar-friday-night-session/
END:VEVENT
END:VCALENDAR