BEGIN:VCALENDAR
VERSION:2.0
PRODID:-//eventon.com NONSGML v1.0//EN
CALSCALE:GREGORIAN
METHOD:PUBLISH
BEGIN:VEVENT
UID:69e879884fc17
DTSTAMP:20260422T073224Z
DTSTART:20260321T150000Z
DTEND:20260321T190000Z
LOCATION:Mamba Phuket 323 10\,  Choeng Thale\,  Amphoe Thalang\,  Phuket 83110
SUMMARY:DRUM+BASS - MAMBA - 21 MARCH 2026
DESCRIPTION:DRUM+BASS &#8211; MAMBA &#8211; 21 MARCH 2026 Witness world-cla
 ss technical mastery as 3x World Champion Turntablist JFB takes over the bo
 oth for an explosive drum and bass session. This is a rare opportunity to s
 ee a global deck legend push Phuket&#8217;s sound system to its absolute li
 mit. JFB is a[..]\nhttps://phangan.events/events/drumbass-mamba-21-march-20
 26/
URL:https://phangan.events/events/drumbass-mamba-21-march-2026/
END:VEVENT
END:VCALENDAR