BEGIN:VCALENDAR
VERSION:2.0
PRODID:-//eventon.com NONSGML v1.0//EN
CALSCALE:GREGORIAN
METHOD:PUBLISH
BEGIN:VEVENT
UID:69e8a0ee48b34
DTSTAMP:20260422T102030Z
DTSTART:20260321T160000Z
DTEND:20260321T200000Z
LOCATION:Café Del Mar Phuket X76M+CH Kamala\,  Kathu District\,  Phuket
SUMMARY:Caiiro - CAFÉ DEL MAR PHUKET
DESCRIPTION:CAIIRO &#8211; CAFÉ DEL MAR PHUKET &#8211; 21 MARCH 2026 South
  African house music pioneer Caiiro brings his signature Afro-house sound t
 o Café del Mar in what promises to be a masterclass in rhythm and soul. El
 i Cicada sets the tone before Caiiro takes you on a journey through deep\, 
 [..]\nhttps://phangan.events/events/caiiro-cafe-del-mar-phuket/
URL:https://phangan.events/events/caiiro-cafe-del-mar-phuket/
END:VEVENT
END:VCALENDAR