BEGIN:VCALENDAR
VERSION:2.0
PRODID:-//eventon.com NONSGML v1.0//EN
CALSCALE:GREGORIAN
METHOD:PUBLISH
BEGIN:VEVENT
UID:69e7a900e50e3
DTSTAMP:20260421T164240Z
DTSTART:20260314T110000Z
DTEND:20260314T200000Z
LOCATION:Café Del Mar Phuket X76M+CH Kamala\,  Kathu District\,  Phuket
SUMMARY:ODYSSEY CREW - CAFÉ DEL MAR PHUKET
DESCRIPTION:ODYSSEY CREW &#8211; CAFÉ DEL MAR PHUKET &#8211; 14 MARCH 2026
  The legendary Café del Mar hosts Odyssey Crew for a sunset session that b
 lends deep melodic sounds with the iconic Balearic atmosphere. Watch the sk
 y turn colors while Izotov\,  Prana Flow\,  and 8Miracle guide you through 
 a sonic journey[..]\nhttps://phangan.events/events/odyssey-crew-cafe-del-ma
 r-phuket/
URL:https://phangan.events/events/odyssey-crew-cafe-del-mar-phuket/
END:VEVENT
END:VCALENDAR