BEGIN:VCALENDAR
VERSION:2.0
PRODID:-//eventon.com NONSGML v1.0//EN
CALSCALE:GREGORIAN
METHOD:PUBLISH
BEGIN:VEVENT
UID:69e87723771d8
DTSTAMP:20260422T072211Z
DTSTART:20260314T130000Z
DTEND:20260314T190000Z
LOCATION:AC Bar Beach Club 3RRH+W2 Ko Tao\,  Ko Pha-ngan District\,  Surat Thani
SUMMARY:AC BAR POOL PARTY - AC BAR BEACH CLUB
DESCRIPTION:AC BAR POOL PARTY &#8211; AC BAR BEACH CLUB &#8211; 14 MAR Dive
  into the ultimate island experience at Koh Tao&#8217;s biggest pool party 
 featuring a massive stage and beachfront swimming pool. This Saturday sessi
 on brings high-energy beats to Sairee Beach with fire shows and a lively so
 cial atmosphere. Line-up:[..]\nhttps://phangan.events/events/ac-bar-pool-pa
 rty-ac-bar-beach-club/
URL:https://phangan.events/events/ac-bar-pool-party-ac-bar-beach-club/
END:VEVENT
END:VCALENDAR