BEGIN:VCALENDAR
VERSION:2.0
PRODID:-//eventon.com NONSGML v1.0//EN
CALSCALE:GREGORIAN
METHOD:PUBLISH
BEGIN:VEVENT
UID:69e733097c7d6
DTSTAMP:20260421T081921Z
DTSTART:20260312T090000Z
DTEND:20260312T170000Z
LOCATION:Secret Mountain P2C7+FM Ko Pha-ngan\,  Ko Pha-ngan District\,  Surat Thani
SUMMARY:Secret Mountain Thursday session
DESCRIPTION:SECRET MOUNTAIN &#8211; 12 MAR Ascend to one of the island&#821
 7;s most stunning viewpoints for a deep dive into sophisticated house and m
 elodic rhythms. This Thursday session offers an immersive sonic experience 
 as the sun sets over the jungle canopy. Line-up: Ben Jam\,  Djuma Soundsyst
 em\,  Robbie Akbal\,  No:Mad 📅 Thursday\, [..]\nhttps://phangan.events/e
 vents/secret-mountain-thursday-session/
URL:https://phangan.events/events/secret-mountain-thursday-session/
END:VEVENT
END:VCALENDAR