BEGIN:VCALENDAR
VERSION:2.0
PRODID:-//eventon.com NONSGML v1.0//EN
CALSCALE:GREGORIAN
METHOD:PUBLISH
BEGIN:VEVENT
UID:69e7b412e8596
DTSTAMP:20260421T172954Z
DTSTART:20251205T100000Z
DTEND:20251205T150000Z
LOCATION:Choeng mon beach Pure Beach Club Rd\,  Bo Put\,  Amphoe Ko Samui\,  Surat Thani 84320
SUMMARY:KOH SAMUI FAMILY FULL MOON FESTIVAL
DESCRIPTION:KOH SAMUI FAMILY FULL MOON FESTIVAL | Choeng Mon Beach | 5 Dec 
 A special full-moon celebration designed for families\,  kids\,  and island
  visitors. Choeng Mon Beach transforms into a vibrant playground with music
 \,  shows\,  games\,  inflatables\,  and immersive entertainment across two
  stages. A colourful evening where beach festival magic[..]\nhttps://phanga
 n.events/events/koh-samui-family-full-moon-festival/
URL:https://phangan.events/events/koh-samui-family-full-moon-festival/
END:VEVENT
END:VCALENDAR