BEGIN:VCALENDAR
VERSION:2.0
PRODID:-//eventon.com NONSGML v1.0//EN
CALSCALE:GREGORIAN
METHOD:PUBLISH
BEGIN:VEVENT
UID:69e901cf9e880
DTSTAMP:20260422T171351Z
DTSTART:20260105T140000Z
DTEND:20260105T230000Z
LOCATION:WATERFALL FESTIVAL Waterfall Party\,  Ko Phangan\,  Thailand\,  Surat Thani 84280
SUMMARY:WATERFALL FESTIVAL - 05 JANUARY 2026
DESCRIPTION:WATERFALL FESTIVAL – 05 JAN Alle Farben at the legendary wate
 rfalls of Koh Phangan. A fresh January night\,  deep in the jungle\,  where
  neon colors drip from the cliffs and four stages run until sunrise. One of
  Europe’s most-loved headliners\,  Alle Farben\,  takes over the main sta
 ge with a signature[..]\nhttps://phangan.events/events/waterfall-festival-0
 5-jan/
URL:https://phangan.events/events/waterfall-festival-05-jan/
END:VEVENT
END:VCALENDAR