BEGIN:VCALENDAR
VERSION:2.0
PRODID:-//eventon.com NONSGML v1.0//EN
CALSCALE:GREGORIAN
METHOD:PUBLISH
BEGIN:VEVENT
UID:69e9391a40ddd
DTSTAMP:20260422T210946Z
DTSTART:20260102T150000Z
DTEND:20260102T230000Z
LOCATION:Jungle Experience Festival P28H+4X Ban Tai\,  Ko Pha-ngan District\,  Surat Thani
SUMMARY:JUNGLE EXPERIENCE FESTIVAL — The Next Episode
DESCRIPTION:JUNGLE EXPERIENCE FESTIVAL Level One: A Fresh Start Into The Wi
 ld. Step into the jungle and celebrate the first full-blown festival of 202
 6 under the tropical night sky. Two powerful stages — two worlds of sound
  — one unforgettable experience. Dragon Stage Mat.Joe | Randy Seidman | A
 ngelika | Armi[..]\nhttps://phangan.events/events/jungle-experience-festiva
 l-the-next-episode/
URL:https://phangan.events/events/jungle-experience-festival-the-next-episode/
END:VEVENT
END:VCALENDAR