BEGIN:VCALENDAR
VERSION:2.0
PRODID:-//eventon.com NONSGML v1.0//EN
CALSCALE:GREGORIAN
METHOD:PUBLISH
BEGIN:VEVENT
UID:69e919353b188
DTSTAMP:20260422T185341Z
DTSTART:20251230T150000Z
DTEND:20251230T230000Z
LOCATION:Jungle Experience Festival P28H+4X Ban Tai\,  Ko Pha-ngan District\,  Surat Thani
SUMMARY:JUNGLE EXPERIENCE FESTIVAL New Year’s Special
DESCRIPTION:JUNGLE EXPERIENCE FESTIVAL — Countdown Runners in the Starlit
  Grove 🌿 📅 Tuesday\,  30 December 2025 ⏰ Gates open 10 PM 📍 Jung
 le Experience\,  Koh Phangan The New Year’s special brings a world-class 
 lineup under the jungle canopy — Martin Ikin and Phil Hartnoll (Orbital) 
 headline an unforgettable night of[..]\nhttps://phangan.events/events/jungl
 e-experience-festival-new-years-special/
URL:https://phangan.events/events/jungle-experience-festival-new-years-special/
END:VEVENT
END:VCALENDAR