BEGIN:VCALENDAR
VERSION:2.0
PRODID:-//eventon.com NONSGML v1.0//EN
CALSCALE:GREGORIAN
METHOD:PUBLISH
BEGIN:VEVENT
UID:69e8ff77486dd
DTSTAMP:20260422T170351Z
DTSTART:20251204T150000Z
DTEND:20251204T230000Z
LOCATION:Jungle Experience Festival P28H+4X Ban Tai\,  Ko Pha-ngan District\,  Surat Thani
SUMMARY:Jungle Experience Festival 4th December
DESCRIPTION:Jungle Experience Festival – A Vision Born in Fire and Sound 
 📅 Thursday\,  4 December 2025 📍 Baan Tai Jungle\,  Koh Phangan\,  Tha
 iland Step deep into the island’s most legendary open-air rave — Jungle
  Experience Festival\,  where nature\,  music\,  and energy fuse into one p
 owerful night. This December\,  the jungle[..]\nhttps://phangan.events/even
 ts/jungle-experience-festival-4-dec/
URL:https://phangan.events/events/jungle-experience-festival-4-dec/
END:VEVENT
END:VCALENDAR