BEGIN:VCALENDAR
VERSION:2.0
PRODID:-//eventon.com NONSGML v1.0//EN
CALSCALE:GREGORIAN
METHOD:PUBLISH
BEGIN:VEVENT
UID:69e4d48e1c534
DTSTAMP:20260419T131142Z
DTSTART:20251013T133000Z
DTEND:20251013T160000Z
LOCATION:Jaroenrit Stadium เกาะพะงัน Tambon Ko Pha-ngan\,  Ko Pha-ngan District\,  Surat Thani 84280
SUMMARY:KAMPUN MUAY THAI SHOW — Championship Night
DESCRIPTION:KAMPUN MUAY THAI SHOW — Championship Night at Jaroenrit Stadi
 um Get ready for an explosive Muay Thai Championship Night on Monday\,  13 
 October 2025\,  live from Jaroenrit Stadium\,  Thong Sala\,  Koh Phangan. T
 wo title fights\,  international matchups\,  and non-stop action — this i
 s Thai boxing at its fiercest. Witness world-class[..]\nhttps://phangan.eve
 nts/events/kampun-muay-thai-show-championship-night/
URL:https://phangan.events/events/kampun-muay-thai-show-championship-night/
END:VEVENT
END:VCALENDAR