BEGIN:VCALENDAR
VERSION:2.0
PRODID:-//eventon.com NONSGML v1.0//EN
CALSCALE:GREGORIAN
METHOD:PUBLISH
BEGIN:VEVENT
UID:69e4d6cb93e22
DTSTAMP:20260419T132115Z
DTSTART:20250925T150000Z
DTEND:20250925T210000Z
LOCATION:Karma bar Koh Tao 3RHR+228\,  Ko Tao\,  Ko Pha-ngan District\,  Surat Thani 84280
SUMMARY:Secret Party Koh Tao 25th September
DESCRIPTION:Secret Party Koh Tao – Jungle Party When: Thursday\,  25 Sept
 ember 2025 Time: From 10:00 PM onwards The island’s underground energy co
 llides with the tropics—Secret Party brings you a two-stage Jungle Party 
 deep in paradise. Expect driving beats\,  wild decor\,  and a dancefloor th
 at doesn’t stop until sunrise. Main Stage[..]\nhttps://phangan.events/eve
 nts/secret-party-koh-tao-25th-september/
URL:https://phangan.events/events/secret-party-koh-tao-25th-september/
END:VEVENT
END:VCALENDAR