BEGIN:VCALENDAR
VERSION:2.0
PRODID:-//eventon.com NONSGML v1.0//EN
CALSCALE:GREGORIAN
METHOD:PUBLISH
BEGIN:VEVENT
UID:69e7b0900a78f
DTSTAMP:20260421T171456Z
DTSTART:20250825T150000Z
DTEND:20250825T220000Z
LOCATION:Sound Club Samui 195 19 ตำบล บ่อผุด Tambon Bo Put\,  Ko Samui District\,  Surat Thani 84320
SUMMARY:Black Moon Party at Sound Club Samui
DESCRIPTION:Black Moon Party at Sound Club Samui The legendary Black Moon v
 ibes land on Koh Samui — one night of deep grooves and pure energy under 
 the dark sky. Expect an atmosphere unlike any other\,  where the island’s
  underground beats meet the magic of the moon. Line-up: – Darragh Casey[.
 .]\nhttps://phangan.events/events/black-moon-party-at-sound-club-samui/
URL:https://phangan.events/events/black-moon-party-at-sound-club-samui/
END:VEVENT
END:VCALENDAR