BEGIN:VCALENDAR
VERSION:2.0
PRODID:-//eventon.com NONSGML v1.0//EN
CALSCALE:GREGORIAN
METHOD:PUBLISH
BEGIN:VEVENT
UID:69e4d328054e7
DTSTAMP:20260419T130544Z
DTSTART:20250813T130000Z
DTEND:20250813T160000Z
LOCATION:Thong Sala Stadium
SUMMARY:MUAY THAI BOXING FIGHT NIGHT KOH PHANGAN
DESCRIPTION:MUAY THAI BOXING FIGHT NIGHT KOH PHANGAN 13th August 2025 An ex
 citing and entertaining evening of Muay Thai Boxing fights. Featuring fight
 ers from the island and mainland going to war in front of packed stands. Wi
 th live commentator\,  food\,  bar and great atmosphere &#8211; treat yours
 elf to a fun night[..]\nhttps://phangan.events/events/muay-thai-boxing-figh
 t-night-koh-phangan/
URL:https://phangan.events/events/muay-thai-boxing-fight-night-koh-phangan/
END:VEVENT
END:VCALENDAR