BEGIN:VCALENDAR
VERSION:2.0
PRODID:-//eventon.com NONSGML v1.0//EN
CALSCALE:GREGORIAN
METHOD:PUBLISH
BEGIN:VEVENT
UID:69ea5657de003
DTSTAMP:20260423T172647Z
DTSTART:20251005T140000Z
DTEND:20251005T230000Z
LOCATION:UTOPIA FESTIVAL P3R2+9M Ban Tai\,  Ko Pha-ngan District\,  Surat Thani
SUMMARY:ASTRIX AT UTOPIA FESTIVAL 05/10/2025
DESCRIPTION:UTOPIA Festival Presents: ASTRIX 05.10.2025 | Thong Nai Pan\,  
 Koh Phangan\,  Thailand Prepare for a transcendental night under the island
  sky On October 5\,  the one and only ASTRIX (Shamanic Tales Records) lands
  in Koh Phangan for a powerful open-air ritual of sound and spirit. Join th
 e tribe at UTOPIA\, [..]\nhttps://phangan.events/events/utopia-festival-oct
 ober-5/
URL:https://phangan.events/events/utopia-festival-october-5/
END:VEVENT
END:VCALENDAR