BEGIN:VCALENDAR
VERSION:2.0
PRODID:-//eventon.com NONSGML v1.0//EN
CALSCALE:GREGORIAN
METHOD:PUBLISH
BEGIN:VEVENT
UID:69ea40216562e
DTSTAMP:20260423T155201Z
DTSTART:20250904T140000Z
DTEND:20250904T230000Z
LOCATION:UTOPIA FESTIVAL P3R2+9M Ban Tai\,  Ko Pha-ngan District\,  Surat Thani
SUMMARY:UTOPIA FESTIVAL 04/09/2025
DESCRIPTION:Utopia Festival – Thursday\,  4 September 2025 Step into a re
 alm where two musical worlds unite on one unforgettable stage. The idyllic 
 shores of Thong Nai Pan will transform into a sanctuary of sound\,  light\,
   and energy\,  bringing together the best of trance and techno for a night
  that will[..]\nhttps://phangan.events/events/utopia-festival-september-4/
URL:https://phangan.events/events/utopia-festival-september-4/
END:VEVENT
END:VCALENDAR