BEGIN:VCALENDAR
VERSION:2.0
PRODID:-//eventon.com NONSGML v1.0//EN
CALSCALE:GREGORIAN
METHOD:PUBLISH
BEGIN:VEVENT
UID:69e7b043e494a
DTSTAMP:20260421T171339Z
DTSTART:20250720T130000Z
DTEND:20250720T210000Z
LOCATION:Ushuaia Ibiza Ctra. de Platja d&#039;en Bossa\,  10\,  07817 Sant Jordi de ses Salines\,  Illes Balears\,  Spain
SUMMARY:Kygo Sundays at Ushuaïa Ibiza
DESCRIPTION:Kygo Sundays at Ushuaïa Ibiza July 20 – August 31\,  2025 Th
 e tropical house sensation Kygo returns to Ushuaïa for an unforgettable Su
 nday residency\,  blending sun-drenched melodies with world-class visuals a
 nd energy. Weekly Lineups Include: • Oliver Heldens\,  Afrojack\,  Sam Fe
 ldt\,  Galantis\,  Gryffin • Special appearances by Frank Walker\,  Matt[
 ..]\nhttps://phangan.events/events/kygo-sundays-at-ushuaia-ibiza/
URL:https://phangan.events/events/kygo-sundays-at-ushuaia-ibiza/
END:VEVENT
END:VCALENDAR