BEGIN:VCALENDAR
VERSION:2.0
PRODID:-//eventon.com NONSGML v1.0//EN
CALSCALE:GREGORIAN
METHOD:PUBLISH
BEGIN:VEVENT
UID:69e903e7225bc
DTSTAMP:20260422T172247Z
DTSTART:20250308T140000Z
DTEND:20250308T180000Z
LOCATION:Catch beach club Phuket 202/88\,  Choeng Thale\,  Thalang District\,  Phuket 83110
SUMMARY:Yvan Polge at Catch Beach Club
DESCRIPTION:Get ready for an unforgettable night at Catch Beach Club in Phu
 ket! On Saturday\,  March 8st\,  starting at 9 PM\,  the vibrant beachside 
 venue welcomes Yvan Polge for an epic night of music\,  dancing\,  and isla
 nd vibes. Whether you’re a Phuket local or just visiting\,  this is one n
 ight you[..]\nhttps://phangan.events/events/yvan-polge-at-catch-beach-club/
URL:https://phangan.events/events/yvan-polge-at-catch-beach-club/
END:VEVENT
END:VCALENDAR