BEGIN:VCALENDAR
VERSION:2.0
PRODID:-//eventon.com NONSGML v1.0//EN
CALSCALE:GREGORIAN
METHOD:PUBLISH
BEGIN:VEVENT
UID:69e8e0102f3b6
DTSTAMP:20260422T144952Z
DTSTART:20250223T130000Z
DTEND:20250223T220000Z
LOCATION:RETRO MOUNTAIN P2CQ+J39\,  Ban Tai\,  Ko Pha-ngan District\,  Surat Thani 84280
SUMMARY:⚡️ELECTRIC SWAMP⚡️
DESCRIPTION:🌿🔊 A night of pure sonic alchemy in the heart of the jung
 le! On February 23rd\,  the Swamp Community ignites once again at Retro Mou
 ntain\,  Koh Phangan\,  a rain covered venue in the jungle. This time\,  we
 ’re diving deep into the electric currents of sound and spirit\,  guided 
 by some[..]\nhttps://phangan.events/events/electric-swamp/
URL:https://phangan.events/events/electric-swamp/
END:VEVENT
END:VCALENDAR