BEGIN:VCALENDAR
VERSION:2.0
PRODID:-//eventon.com NONSGML v1.0//EN
CALSCALE:GREGORIAN
METHOD:PUBLISH
BEGIN:VEVENT
UID:69ea3f62234a4
DTSTAMP:20260423T154850Z
DTSTART:20250204T060000Z
DTEND:20250204T160000Z
LOCATION:AC Bar Beach Club 3RRH+W2 Ko Tao\,  Ko Pha-ngan District\,  Surat Thani
SUMMARY:Sexy Pool party at AC Bar Beach Club Koh Tao
DESCRIPTION:🌊 Dive into the ultimate poolside party on Koh Tao! 🌊 
  Where: AC Bar Beach Club\,  Koh Tao 📅 When: Every Thursday Get ready f
 or an epic mix of refreshing cocktails\,  pumping beats\,  and a vibrant at
 mosphere! Chill by the pool\,  dance to the tunes\,  or soak up the[..]\nht
 tps://phangan.events/events/pool-party-at-ac-bar-beach-club-koh-tao/
URL:https://phangan.events/events/pool-party-at-ac-bar-beach-club-koh-tao/
END:VEVENT
END:VCALENDAR