BEGIN:VCALENDAR
VERSION:2.0
PRODID:-//eventon.com NONSGML v1.0//EN
CALSCALE:GREGORIAN
METHOD:PUBLISH
BEGIN:VEVENT
UID:69e48ca0bb984
DTSTAMP:20260419T080448Z
DTSTART:20250111T140000Z
DTEND:20250111T230000Z
LOCATION:MAYA Koh Phangan P27J+WX Ban Tai\,  Ko Pha-ngan District\,  Surat Thani
SUMMARY:Hard Techno at Maya Koh Phangan
DESCRIPTION:ðŸ”¥ Hard Techno Alert on Koh Phangan! ðŸ”¥ Prepare yourself fo
 r an explosive night of pounding beats and electrifying energy! On Saturday
 \,  11th January 2025\,  Maya on Koh Phangan is the place to be as the Hard
  Techno scene takes over for an unforgettable rave. ðŸŽµ Lineup: ðŸŽ§ AndrÃ
 © Pillar[..]\nhttps://phangan.events/events/hard-techno-at-maya-club/
URL:https://phangan.events/events/hard-techno-at-maya-club/
END:VEVENT
END:VCALENDAR