BEGIN:VCALENDAR
VERSION:2.0
PRODID:-//eventon.com NONSGML v1.0//EN
CALSCALE:GREGORIAN
METHOD:PUBLISH
BEGIN:VEVENT
UID:69ecee84e843d
DTSTAMP:20260425T164036Z
DTSTART:20240822T140000Z
DTEND:20240822T180000Z
LOCATION:Oskar Bistro Bangkok 24 Sukhumvit 11\,  Bangkok\,  Thailand\,  Bangkok 10110
SUMMARY:Gainsbourg Night at Oskar Bistro Bangkok
DESCRIPTION:Oskar’s Live Series proudly presents a Serge Gainsbourg Tribu
 te by Christophe Gerber Quartet.🇫🇷🎶 Gainsbourg&#8217;s music has s
 haped the taste and the lives of multiple generations from Baby Boomers to 
 Millennials\,  in France and around the world. Expect the unique and swanky
  sound of this iconic genius while enjoying a special[..]\nhttps://phangan.
 events/events/gainsbourg-night-at-oskar-bistro-bangkok/
URL:https://phangan.events/events/gainsbourg-night-at-oskar-bistro-bangkok/
END:VEVENT
END:VCALENDAR