BEGIN:VCALENDAR
VERSION:2.0
PRODID:-//eventon.com NONSGML v1.0//EN
CALSCALE:GREGORIAN
METHOD:PUBLISH
BEGIN:VEVENT
UID:69eba14fc6c72
DTSTAMP:20260424T165855Z
DTSTART:20240822T140000Z
DTEND:20240822T230000Z
LOCATION:
SUMMARY:Stona Thursday Aug. 22 ft. Adi Shabat & Omka
DESCRIPTION:𝐒𝐓𝐎𝐍𝐀 where music meets nature\,  and home of un
 derground house. Join us for an unforgettable experience at the Stona Party
 \,  where music\,  nature\,  and good vibes come together to create an extr
 aordinary event. Dance the night away to uplifting tunes that will keep you
 r spirits high and your feet moving.[..]\nhttps://phangan.events/events/sto
 na-thursday-aug-22-ft-adi-shabat-omka/
URL:https://phangan.events/events/stona-thursday-aug-22-ft-adi-shabat-omka/
END:VEVENT
END:VCALENDAR